BEGIN:VCALENDAR
VERSION:2.0
PRODID:-//Rhode Home Rescue - ECPv6.15.11//NONSGML v1.0//EN
CALSCALE:GREGORIAN
METHOD:PUBLISH
X-WR-CALNAME:Rhode Home Rescue
X-ORIGINAL-URL:https://www.rhodehomerescue.org
X-WR-CALDESC:Events for Rhode Home Rescue
REFRESH-INTERVAL;VALUE=DURATION:PT1H
X-Robots-Tag:noindex
X-PUBLISHED-TTL:PT1H
BEGIN:VTIMEZONE
TZID:America/New_York
BEGIN:DAYLIGHT
TZOFFSETFROM:-0500
TZOFFSETTO:-0400
TZNAME:EDT
DTSTART:20240310T070000
END:DAYLIGHT
BEGIN:STANDARD
TZOFFSETFROM:-0400
TZOFFSETTO:-0500
TZNAME:EST
DTSTART:20241103T060000
END:STANDARD
BEGIN:DAYLIGHT
TZOFFSETFROM:-0500
TZOFFSETTO:-0400
TZNAME:EDT
DTSTART:20250309T070000
END:DAYLIGHT
BEGIN:STANDARD
TZOFFSETFROM:-0400
TZOFFSETTO:-0500
TZNAME:EST
DTSTART:20251102T060000
END:STANDARD
BEGIN:DAYLIGHT
TZOFFSETFROM:-0500
TZOFFSETTO:-0400
TZNAME:EDT
DTSTART:20260308T070000
END:DAYLIGHT
BEGIN:STANDARD
TZOFFSETFROM:-0400
TZOFFSETTO:-0500
TZNAME:EST
DTSTART:20261101T060000
END:STANDARD
BEGIN:DAYLIGHT
TZOFFSETFROM:-0500
TZOFFSETTO:-0400
TZNAME:EDT
DTSTART:20270314T070000
END:DAYLIGHT
BEGIN:STANDARD
TZOFFSETFROM:-0400
TZOFFSETTO:-0500
TZNAME:EST
DTSTART:20271107T060000
END:STANDARD
END:VTIMEZONE
BEGIN:VEVENT
DTSTART;TZID=America/New_York:20260117T183000
DTEND;TZID=America/New_York:20260117T233000
DTSTAMP:20260423T201016
CREATED:20251219T210831Z
LAST-MODIFIED:20260112T163722Z
UID:10000148-1768674600-1768692600@www.rhodehomerescue.org
SUMMARY:RHR Annual Banquet 2026
DESCRIPTION:Date & Time:March 22\, 2026@11 am–2 pmET $30 (includes the USB)Bring out the Easter spirit and join RHR for Photos with the Easter Bunny!• For a small donation you and your pets can get some great photos with the Easter Bunny and hop into Spring right!• $30 gets you a USB drive filled with photos that you can take home and share the best ones!• Please arrive at least 5  minutes prior to your appointment.OrganizerRhode Home Rescue (401)354-2426  special_events@rhodehomerescue.org  RHR Building 1084 W. Shore RdWarwick\,RI02889+ Google Map  
URL:https://www.rhodehomerescue.org/event/rhr-annual-banquet-2026/
LOCATION:Santa Maria Di Prata Society\, 29 Walnut Grove Ave\, Cranston\, RI\, 02920\, United States
CATEGORIES:Charity
ATTACH;FMTTYPE=image/png:https://www.rhodehomerescue.org/wp-content/uploads/2025/12/Banquet-2026-2.png
ORGANIZER;CN="Rhode Home Rescue":MAILTO:special_events@rhodehomerescue.org
GEO:41.7887417;-71.4733362
X-APPLE-STRUCTURED-LOCATION;VALUE=URI;X-ADDRESS=Santa Maria Di Prata Society 29 Walnut Grove Ave Cranston RI 02920 United States;X-APPLE-RADIUS=500;X-TITLE=29 Walnut Grove Ave:geo:-71.4733362,41.7887417
END:VEVENT
BEGIN:VEVENT
DTSTART;TZID=America/New_York:20251220T100000
DTEND;TZID=America/New_York:20251220T234500
DTSTAMP:20260423T201016
CREATED:20251116T173245Z
LAST-MODIFIED:20251116T173920Z
UID:10000147-1766224800-1766274300@www.rhodehomerescue.org
SUMMARY:Photos with Santa Dec 20th\, 2025
DESCRIPTION:Date & Time:March 22\, 2026@11 am–2 pmET $30 (includes the USB)Bring out the Easter spirit and join RHR for Photos with the Easter Bunny!• For a small donation you and your pets can get some great photos with the Easter Bunny and hop into Spring right!• $30 gets you a USB drive filled with photos that you can take home and share the best ones!• Please arrive at least 5  minutes prior to your appointment.OrganizerRhode Home Rescue (401)354-2426  special_events@rhodehomerescue.org  RHR Building 1084 W. Shore RdWarwick\,RI02889+ Google Map  
URL:https://www.rhodehomerescue.org/event/photos-with-santa-dec-20th-2025/
LOCATION:Pet Supplies Plus North Providence\, 1663 Mineral Spring Ave\, North Providence\, RI\, 02904\, United States
CATEGORIES:Fundraising
ATTACH;FMTTYPE=image/png:https://www.rhodehomerescue.org/wp-content/uploads/2025/11/2025-NP-SMALL-Santa-Photo.png
ORGANIZER;CN="Rhode Home Rescue":MAILTO:special_events@rhodehomerescue.org
GEO:41.8642957;-71.4524231
X-APPLE-STRUCTURED-LOCATION;VALUE=URI;X-ADDRESS=Pet Supplies Plus North Providence 1663 Mineral Spring Ave North Providence RI 02904 United States;X-APPLE-RADIUS=500;X-TITLE=1663 Mineral Spring Ave:geo:-71.4524231,41.8642957
END:VEVENT
BEGIN:VEVENT
DTSTART;TZID=America/New_York:20251207T150000
DTEND;TZID=America/New_York:20251207T174500
DTSTAMP:20260423T201016
CREATED:20251113T193322Z
LAST-MODIFIED:20251116T192735Z
UID:10000146-1765119600-1765129500@www.rhodehomerescue.org
SUMMARY:Photos with Santa Dec 7th\, 2025
DESCRIPTION:Date & Time:March 22\, 2026@11 am–2 pmET $30 (includes the USB)Bring out the Easter spirit and join RHR for Photos with the Easter Bunny!• For a small donation you and your pets can get some great photos with the Easter Bunny and hop into Spring right!• $30 gets you a USB drive filled with photos that you can take home and share the best ones!• Please arrive at least 5  minutes prior to your appointment.OrganizerRhode Home Rescue (401)354-2426  special_events@rhodehomerescue.org  RHR Building 1084 W. Shore RdWarwick\,RI02889+ Google Map  
URL:https://www.rhodehomerescue.org/event/photos-with-santa-dec-7th-2025/
LOCATION:RHR Building\, 1084 W. Shore Rd\, Warwick\, RI\, 02889
CATEGORIES:Fundraising
ATTACH;FMTTYPE=image/png:https://www.rhodehomerescue.org/wp-content/uploads/2025/11/Untitled-5.png
ORGANIZER;CN="Rhode Home Rescue":MAILTO:special_events@rhodehomerescue.org
GEO:41.7167159;-71.3753729
X-APPLE-STRUCTURED-LOCATION;VALUE=URI;X-ADDRESS=RHR Building 1084 W. Shore Rd Warwick RI 02889;X-APPLE-RADIUS=500;X-TITLE=1084 W. Shore Rd:geo:-71.3753729,41.7167159
END:VEVENT
BEGIN:VEVENT
DTSTART;VALUE=DATE:20250601
DTEND;VALUE=DATE:20250701
DTSTAMP:20260423T201016
CREATED:20250503T043852Z
LAST-MODIFIED:20250515T162624Z
UID:10000145-1748736000-1751327999@www.rhodehomerescue.org
SUMMARY:June Jackpot 2025
DESCRIPTION:Date & Time:March 22\, 2026@11 am–2 pmET $30 (includes the USB)Bring out the Easter spirit and join RHR for Photos with the Easter Bunny!• For a small donation you and your pets can get some great photos with the Easter Bunny and hop into Spring right!• $30 gets you a USB drive filled with photos that you can take home and share the best ones!• Please arrive at least 5  minutes prior to your appointment.OrganizerRhode Home Rescue (401)354-2426  special_events@rhodehomerescue.org  RHR Building 1084 W. Shore RdWarwick\,RI02889+ Google Map  
URL:https://www.rhodehomerescue.org/event/june-jackpot-2025/
LOCATION:RI
CATEGORIES:Fundraising
ATTACH;FMTTYPE=image/jpeg:https://www.rhodehomerescue.org/wp-content/uploads/2025/05/June-Jackpot-Featured.jpg
ORGANIZER;CN="Rhode Home Rescue":MAILTO:special_events@rhodehomerescue.org
END:VEVENT
END:VCALENDAR